BEGIN:VCALENDAR
VERSION:2.0
PRODID:-//Library Market//iCal Export//EN
BEGIN:VEVENT
SUMMARY:Learn the Rumba with DanzAmor
UID:41898
DTSTAMP:20260421T023200Z
DTSTART:20260825T220000Z
DTEND:20260825T230000Z
LOCATION:Safety Harbor Public Library, 101 2nd St North, Safety Harbor, FL
  34695, United States
ROOM: Meeting Room C (2nd Floor)
DESCRIPTION:Join us at the library for a Ballroom Dancing experience! Lear
 n Rumba, a fun Latin dance while building confidence, connection, and rhy
 thm. Perfect for beginners and experienced dancers-no partner required. Co
 me enjoy music, movement. and a great community atmosphere!
URL:https://events.safetyharborlibrary.org/index.php/event/adult-program-4
 1898
END:VEVENT
END:VCALENDAR
