BEGIN:VCALENDAR
VERSION:2.0
PRODID:-//Library Market//iCal Export//EN
BEGIN:VEVENT
SUMMARY:Literary League Book Club
UID:42661
DTSTAMP:20260421T060900Z
DTSTART:20260909T220000Z
DTEND:20260909T230000Z
LOCATION:Safety Harbor Public Library, 101 2nd St North, Safety Harbor, FL
  34695, United States
ROOM: Meeting Room B (1st Floor)
DESCRIPTION:Join us at the library for one of our new book clubs, Literary
  League. Meets the second Wednesday of each month at 6:00 p.m. The Septemb
 er title is The Bewitching by Silvia Moreno-Garcia. Limited copies of the
  book are available at the library. See the list of upcoming titles at Li
 terary League Titles
URL:https://events.safetyharborlibrary.org/index.php/event/literary-league
 -book-club-42661
END:VEVENT
END:VCALENDAR
