BEGIN:VCALENDAR
VERSION:2.0
PRODID:-//Library Market//iCal Export//EN
BEGIN:VEVENT
SUMMARY:Drop-In Tech Help
UID:43247
DTSTAMP:20260424T124400Z
DTSTART:20260616T180000Z
DTEND:20260616T200000Z
LOCATION:Safety Harbor Public Library, 101 2nd St North, Safety Harbor, FL
  34695, United States
ROOM: Meeting Room D (2nd Floor)
DESCRIPTION:Help with technology basics for phones, computers, and library
 -related applications. Tech help is first come, first served.
URL:https://events.safetyharborlibrary.org/index.php/event/drop-tech-help-
 43247
END:VEVENT
END:VCALENDAR
