BEGIN:VCALENDAR
VERSION:2.0
PRODID:-//Library Market//iCal Export//EN
BEGIN:VEVENT
SUMMARY:Literary League Book Club
UID:42658
DTSTAMP:20260421T114200Z
DTSTART:20260610T220000Z
DTEND:20260610T230000Z
LOCATION:Safety Harbor Public Library, 101 2nd St North, Safety Harbor, FL
  34695, United States
ROOM: Meeting Room B (1st Floor)
DESCRIPTION:Join us at the library for one of our new book clubs, Literary
  League. Meets the second Wednesday of each month at 6:00 p.m. The June ti
 tle is The Guncle by Steven Rowley. Limited copies of the book are availa
 ble at the library. See the list of upcoming titles at Literary League Ti
 tles
URL:https://events.safetyharborlibrary.org/event/literary-league-book-club
 -42658
END:VEVENT
END:VCALENDAR
