BEGIN:VCALENDAR
VERSION:2.0
PRODID:-//Library Market//iCal Export//EN
BEGIN:VEVENT
SUMMARY:Plant Swap
UID:43213
DTSTAMP:20260419T232500Z
DTSTART:20260509T143000Z
DTEND:20260509T154500Z
LOCATION:Safety Harbor Public Library, 101 2nd St North, Safety Harbor, FL
  34695, United States
ROOM: Meeting Room C (2nd Floor)
DESCRIPTION:Come to the library to swap plants, meet other gardeners and s
 ocialize. To participate, bring in one plant (or many) in a container you 
 are willing to give away. Label your plants as best you can with the name,
  light, soil requirements, and any unique characteristics they may have. E
 ach plant you bring gives you the opportunity to exchange it for something
  new.
URL:https://events.safetyharborlibrary.org/event/plant-swap-43213
END:VEVENT
END:VCALENDAR
