BEGIN:VCALENDAR
VERSION:2.0
PRODID:-//Library Market//iCal Export//EN
BEGIN:VEVENT
SUMMARY:SHINE Medicare Counseling
UID:43260
DTSTAMP:20260421T114900Z
DTSTART:20260421T150000Z
DTEND:20260421T160000Z
LOCATION:Safety Harbor Public Library, 101 2nd St North, Safety Harbor, FL
  34695, United States
ROOM: Study Room B
DESCRIPTION:Provides free, unbiased, and confidential health insurance cou
 nseling. Call 727-724-1525 x 4107 to sign-up or visit us online https://fo
 rm.jotform.com/shlibrary/SHINE-appointment
URL:https://events.safetyharborlibrary.org/event/shine-medicare-counseling
 -43260
END:VEVENT
END:VCALENDAR
