BEGIN:VCALENDAR
VERSION:2.0
PRODID:-//Library Market//iCal Export//EN
BEGIN:VEVENT
SUMMARY:Nature Activity Books and Guides Bag
UID:43362
DTSTAMP:20260421T131700Z
DTSTART:20260507T133000Z
DTEND:20260507T210000Z
LOCATION:Safety Harbor Public Library, 101 2nd St North, Safety Harbor, FL
  34695, United States
ROOM: Youth Desk
DESCRIPTION:Do you love learning about nature and animals? Pick up a bag w
 ith five glossy nature guides. These full-color Waterford Press field guid
 es, edited by naturalist Jeff Corwin, include information on sharks, snake
 s, wild dogs, wild cats, bears and primates. Folded 4x8&quot; guides open 
 to 8x22&quot;, with color pictures and information on both sides. These ar
 e useful educational guides for students.Also included is seven nature act
 ivity books featuring a variety of creative activities and games, word sea
 rches, crosswords, quizzes, origami, mazes, puzzles and drawing/coloring a
 ctivities, to encourage interest and engage children in nature and the nat
 ural sciences.
URL:https://events.safetyharborlibrary.org/event/nature-activity-books-and
 -guides-bag-43362
END:VEVENT
END:VCALENDAR
